BEGIN:VCALENDAR
VERSION:2.0
METHOD:PUBLISH
PRODID:-//hacksw/handcal/NONSGML v1.0//EN
BEGIN:VEVENT
TZID:America/New_York
UID:sudbury-zoom-event-2cdf20a0851cee90acdf363a0aa88fbf@sudbury.ma.us
SEQUENCE:1776697604
DTSTAMP:20260420T150644Z
DTSTART:20200228T134500Z
DURATION:PT180M
SUMMARY:Master Plan Steering Committee Meeting: Friday\, February 28\, 2020
LOCATION:Police Station
URL:https://sudbury.ma.us/masterplan/meeting/master-plan-steering-committee-meeting-friday-february-28-2020/
DESCRIPTION:For the latest details\, visit:  https://sudbury.ma.us/masterplan/meeting/master-plan-steering-committee-meeting-friday-february-28-2020/
END:VEVENT
END:VCALENDAR