BEGIN:VCALENDAR
VERSION:2.0
METHOD:PUBLISH
PRODID:-//hacksw/handcal/NONSGML v1.0//EN
BEGIN:VEVENT
TZID:America/New_York
UID:sudbury-zoom-event-d9e4288161fcf76a590b5218ec941b32@sudbury.ma.us
SEQUENCE:1776697599
DTSTAMP:20260420T150639Z
DTSTART:20200417T124500Z
DURATION:PT150M
SUMMARY:Master Plan Steering Committee Meeting: Friday\, April 17\, 2020
LOCATION:Virtual Meeting
URL:https://sudbury.ma.us/masterplan/meeting/master-plan-steering-committee-meeting-friday-april-17-2020/
DESCRIPTION:For the latest details\, visit:  https://sudbury.ma.us/masterplan/meeting/master-plan-steering-committee-meeting-friday-april-17-2020/
END:VEVENT
END:VCALENDAR