BEGIN:VCALENDAR
VERSION:2.0
METHOD:PUBLISH
PRODID:-//hacksw/handcal/NONSGML v1.0//EN
BEGIN:VEVENT
TZID:America/New_York
UID:sudbury-zoom-event-ffb855427b976cf556f15a1f0ad56ec1@sudbury.ma.us
SEQUENCE:1776702527
DTSTAMP:20260420T162847Z
DTSTART:20200731T124500Z
DURATION:PT120M
SUMMARY:Master Plan Steering Committee Meeting: Friday\, July 31\, 2020
LOCATION:Virtual Meeting
URL:https://sudbury.ma.us/masterplan/meeting/master-plan-steering-committee-meeting-friday-july-31-2020/
DESCRIPTION:For the latest details\, visit:  https://sudbury.ma.us/masterplan/meeting/master-plan-steering-committee-meeting-friday-july-31-2020/
END:VEVENT
END:VCALENDAR