BEGIN:VCALENDAR
VERSION:2.0
METHOD:PUBLISH
PRODID:-//hacksw/handcal/NONSGML v1.0//EN
BEGIN:VEVENT
TZID:America/New_York
UID:sudbury-zoom-event-b8a86745d0490e9b315ab19d7a24ab6f@sudbury.ma.us
SEQUENCE:1776697604
DTSTAMP:20260420T150644Z
DTSTART:20200827T124500Z
DURATION:PT120M
SUMMARY:Master Plan Steering Committee Meeting: Thursday\, August 27\, 2020
LOCATION:Virtual Meeting
URL:https://sudbury.ma.us/masterplan/meeting/master-plan-steering-committee-meeting-thursday-august-27-2020/
DESCRIPTION:For the latest details\, visit:  https://sudbury.ma.us/masterplan/meeting/master-plan-steering-committee-meeting-thursday-august-27-2020/
END:VEVENT
END:VCALENDAR