BEGIN:VCALENDAR
VERSION:2.0
METHOD:PUBLISH
PRODID:-//hacksw/handcal/NONSGML v1.0//EN
BEGIN:VEVENT
TZID:America/New_York
UID:sudbury-zoom-event-51015193a8352c166e1facdaac688254@sudbury.ma.us
SEQUENCE:1776687510
DTSTAMP:20260420T121830Z
DTSTART:20150205T000000Z
DURATION:PT120M
SUMMARY:Medical Reserve Corps Executive Committee Meeting: Wednesday\, February 4\, 2015
LOCATION:Department of Public Works Building - Conference Room
URL:https://sudbury.ma.us/mrcec/meeting/medical-reserve-corps-executive-committee-meeting-wednesday-february-4-2015/
DESCRIPTION:For the latest details\, visit:  https://sudbury.ma.us/mrcec/meeting/medical-reserve-corps-executive-committee-meeting-wednesday-february-4-2015/
END:VEVENT
END:VCALENDAR