BEGIN:VCALENDAR
VERSION:2.0
METHOD:PUBLISH
PRODID:-//hacksw/handcal/NONSGML v1.0//EN
BEGIN:VEVENT
TZID:America/New_York
UID:sudbury-zoom-event-8a3c0f2adb7c590f53a84aef0dbdcf2f@sudbury.ma.us
SEQUENCE:1776686780
DTSTAMP:20260420T120620Z
DTSTART:20070621T233000Z
DURATION:PT120M
SUMMARY:Medical Reserve Corps Executive Committee Meeting: Thursday\, June 21\, 2007
LOCATION:Department of Public Works Building - Conference Room
URL:https://sudbury.ma.us/mrcec/meeting/medical-reserve-corps-executive-committee-meeting-thursday-june-21-2007/
DESCRIPTION:For the latest details\, visit:  https://sudbury.ma.us/mrcec/meeting/medical-reserve-corps-executive-committee-meeting-thursday-june-21-2007/
END:VEVENT
END:VCALENDAR