BEGIN:VCALENDAR
VERSION:2.0
METHOD:PUBLISH
PRODID:-//hacksw/handcal/NONSGML v1.0//EN
BEGIN:VEVENT
TZID:America/New_York
UID:sudbury-zoom-event-ebe2cf871920444771a74d2d713a63d7@sudbury.ma.us
SEQUENCE:1776687302
DTSTAMP:20260420T121502Z
DTSTART:20150311T233000Z
DURATION:PT120M
SUMMARY:Medical Reserve Corps Executive Committee Meeting: Wednesday\, March 11\, 2015
LOCATION:Department of Public Works Building - Conference Room
URL:https://sudbury.ma.us/mrcec/meeting/medical-reserve-corps-executive-committee-meeting-wednesday-march-11-2015/
DESCRIPTION:For the latest details\, visit:  https://sudbury.ma.us/mrcec/meeting/medical-reserve-corps-executive-committee-meeting-wednesday-march-11-2015/
END:VEVENT
END:VCALENDAR