BEGIN:VCALENDAR
VERSION:2.0
METHOD:PUBLISH
PRODID:-//hacksw/handcal/NONSGML v1.0//EN
BEGIN:VEVENT
TZID:America/New_York
UID:sudbury-zoom-event-82d2a3cd28c6b6cea5718edc001561de@sudbury.ma.us
SEQUENCE:1776687475
DTSTAMP:20260420T121755Z
DTSTART:20070724T233000Z
DURATION:PT120M
SUMMARY:Medical Reserve Corps Executive Committee Meeting: Tuesday\, July 24\, 2007
LOCATION:Department of Public Works Building - Conference Room
URL:https://sudbury.ma.us/mrcec/meeting/medical-reserve-corps-executive-committee-meeting-tuesday-july-24-2007/
DESCRIPTION:For the latest details\, visit:  https://sudbury.ma.us/mrcec/meeting/medical-reserve-corps-executive-committee-meeting-tuesday-july-24-2007/
END:VEVENT
END:VCALENDAR