BEGIN:VCALENDAR
VERSION:2.0
METHOD:PUBLISH
PRODID:-//hacksw/handcal/NONSGML v1.0//EN
BEGIN:VEVENT
TZID:America/New_York
UID:sudbury-zoom-event-0d4bd512edb25beb764eff97f6d83544@sudbury.ma.us
SEQUENCE:1776686719
DTSTAMP:20260420T120519Z
DTSTART:20150910T230000Z
DURATION:PT120M
SUMMARY:Medical Reserve Corps Executive Committee Meeting: Thursday\, September 10\, 2015
LOCATION:Fairbank Community Center - Senior Center Pines Rm. (1958 to 2023)
URL:https://sudbury.ma.us/mrcec/meeting/medical-reserve-corps-executive-committee-meeting-thursday-september-10-2015/
DESCRIPTION:For the latest details\, visit:  https://sudbury.ma.us/mrcec/meeting/medical-reserve-corps-executive-committee-meeting-thursday-september-10-2015/
END:VEVENT
END:VCALENDAR