BEGIN:VCALENDAR
VERSION:2.0
METHOD:PUBLISH
PRODID:-//hacksw/handcal/NONSGML v1.0//EN
BEGIN:VEVENT
TZID:America/New_York
UID:sudbury-zoom-event-878513c6d08a88a8fcb5ac6be52ef929@sudbury.ma.us
SEQUENCE:1776687476
DTSTAMP:20260420T121756Z
DTSTART:20160112T223000Z
DURATION:PT60M
SUMMARY:Medical Reserve Corps Executive Committee Meeting: Tuesday\, January 12\, 2016
LOCATION:Department of Public Works Building - Conference Room
URL:https://sudbury.ma.us/mrcec/meeting/medical-reserve-corps-executive-committee-meeting-tuesday-january-12-2016/
DESCRIPTION:For the latest details\, visit:  https://sudbury.ma.us/mrcec/meeting/medical-reserve-corps-executive-committee-meeting-tuesday-january-12-2016/
END:VEVENT
END:VCALENDAR