BEGIN:VCALENDAR
VERSION:2.0
METHOD:PUBLISH
PRODID:-//hacksw/handcal/NONSGML v1.0//EN
BEGIN:VEVENT
TZID:America/New_York
UID:sudbury-zoom-event-4d482194fb693a936569dcb9dc3d1d23@sudbury.ma.us
SEQUENCE:1776686780
DTSTAMP:20260420T120620Z
DTSTART:20071221T003000Z
DURATION:PT120M
SUMMARY:Medical Reserve Corps Executive Committee Meeting: Thursday\, December 20\, 2007
LOCATION:Department of Public Works Building - Conference Room
URL:https://sudbury.ma.us/mrcec/meeting/medical-reserve-corps-executive-committee-meeting-thursday-december-20-2007/
DESCRIPTION:For the latest details\, visit:  https://sudbury.ma.us/mrcec/meeting/medical-reserve-corps-executive-committee-meeting-thursday-december-20-2007/
END:VEVENT
END:VCALENDAR