BEGIN:VCALENDAR
VERSION:2.0
METHOD:PUBLISH
PRODID:-//hacksw/handcal/NONSGML v1.0//EN
BEGIN:VEVENT
TZID:America/New_York
UID:sudbury-zoom-event-c28f45459e6724326575fe0cefb05b20@sudbury.ma.us
SEQUENCE:1776686777
DTSTAMP:20260420T120617Z
DTSTART:20180521T223000Z
DURATION:PT120M
SUMMARY:Medical Reserve Corps Executive Committee Meeting: Monday\, May 21\, 2018
LOCATION:Department of Public Works Building - Conference Room
URL:https://sudbury.ma.us/mrcec/meeting/medical-reserve-corps-executive-committee-meeting-monday-may-21-2018/
DESCRIPTION:For the latest details\, visit:  https://sudbury.ma.us/mrcec/meeting/medical-reserve-corps-executive-committee-meeting-monday-may-21-2018/
END:VEVENT
END:VCALENDAR