BEGIN:VCALENDAR
VERSION:2.0
METHOD:PUBLISH
PRODID:-//hacksw/handcal/NONSGML v1.0//EN
BEGIN:VEVENT
TZID:America/New_York
UID:sudbury-zoom-event-663c9fee20588698dcf8abf003e91e1f@sudbury.ma.us
SEQUENCE:1776691765
DTSTAMP:20260420T132925Z
DTSTART:20080527T233000Z
DURATION:PT120M
SUMMARY:Medical Reserve Corps Executive Committee Meeting: Tuesday\, May 27\, 2008
LOCATION:Department of Public Works Building - Conference Room
URL:https://sudbury.ma.us/mrcec/meeting/medical-reserve-corps-executive-committee-meeting-tuesday-may-27-2008/
DESCRIPTION:For the latest details\, visit:  https://sudbury.ma.us/mrcec/meeting/medical-reserve-corps-executive-committee-meeting-tuesday-may-27-2008/
END:VEVENT
END:VCALENDAR