BEGIN:VCALENDAR
VERSION:2.0
METHOD:PUBLISH
PRODID:-//hacksw/handcal/NONSGML v1.0//EN
BEGIN:VEVENT
TZID:America/New_York
UID:sudbury-zoom-event-29f93f414ba042bd44cb3fcffc10dfcf@sudbury.ma.us
SEQUENCE:1776687237
DTSTAMP:20260420T121357Z
DTSTART:20080903T233000Z
DURATION:PT120M
SUMMARY:Medical Reserve Corps Executive Committee Meeting: Wednesday\, September 3\, 2008
LOCATION:Ephraim Curtis Middle School
URL:https://sudbury.ma.us/mrcec/meeting/medical-reserve-corps-executive-committee-meeting-wednesday-september-3-2008/
DESCRIPTION:For the latest details\, visit:  https://sudbury.ma.us/mrcec/meeting/medical-reserve-corps-executive-committee-meeting-wednesday-september-3-2008/
END:VEVENT
END:VCALENDAR