BEGIN:VCALENDAR
VERSION:2.0
METHOD:PUBLISH
PRODID:-//hacksw/handcal/NONSGML v1.0//EN
BEGIN:VEVENT
TZID:America/New_York
UID:sudbury-zoom-event-1b502a127f2e709cbe70c3e58b27fb65@sudbury.ma.us
SEQUENCE:1776686779
DTSTAMP:20260420T120619Z
DTSTART:20081007T233000Z
DURATION:PT120M
SUMMARY:Medical Reserve Corps Executive Committee Meeting: Tuesday\, October 7\, 2008
LOCATION:Department of Public Works Building - Conference Room
URL:https://sudbury.ma.us/mrcec/meeting/medical-reserve-corps-executive-committee-meeting-tuesday-october-7-2008/
DESCRIPTION:For the latest details\, visit:  https://sudbury.ma.us/mrcec/meeting/medical-reserve-corps-executive-committee-meeting-tuesday-october-7-2008/
END:VEVENT
END:VCALENDAR