BEGIN:VCALENDAR
VERSION:2.0
METHOD:PUBLISH
PRODID:-//hacksw/handcal/NONSGML v1.0//EN
BEGIN:VEVENT
TZID:America/New_York
UID:sudbury-zoom-event-9737982efeda06ed1b42b67867bdbb67@sudbury.ma.us
SEQUENCE:1776687230
DTSTAMP:20260420T121350Z
DTSTART:20090220T003000Z
DURATION:PT120M
SUMMARY:Medical Reserve Corps Executive Committee Meeting: Thursday\, February 19\, 2009
LOCATION:Department of Public Works Building - Conference Room
URL:https://sudbury.ma.us/mrcec/meeting/medical-reserve-corps-executive-committee-meeting-thursday-february-19-2009/
DESCRIPTION:For the latest details\, visit:  https://sudbury.ma.us/mrcec/meeting/medical-reserve-corps-executive-committee-meeting-thursday-february-19-2009/
END:VEVENT
END:VCALENDAR