BEGIN:VCALENDAR
VERSION:2.0
METHOD:PUBLISH
PRODID:-//hacksw/handcal/NONSGML v1.0//EN
BEGIN:VEVENT
TZID:America/New_York
UID:sudbury-zoom-event-9702eab71b51f89b07e21d88ab09fc01@sudbury.ma.us
SEQUENCE:1776687474
DTSTAMP:20260420T121754Z
DTSTART:20090616T233000Z
DURATION:PT120M
SUMMARY:Medical Reserve Corps Executive Committee Meeting: Tuesday\, June 16\, 2009
LOCATION:Department of Public Works Building - Conference Room
URL:https://sudbury.ma.us/mrcec/meeting/medical-reserve-corps-executive-committee-meeting-tuesday-june-16-2009/
DESCRIPTION:For the latest details\, visit:  https://sudbury.ma.us/mrcec/meeting/medical-reserve-corps-executive-committee-meeting-tuesday-june-16-2009/
END:VEVENT
END:VCALENDAR