BEGIN:VCALENDAR
VERSION:2.0
METHOD:PUBLISH
PRODID:-//hacksw/handcal/NONSGML v1.0//EN
BEGIN:VEVENT
TZID:America/New_York
UID:sudbury-zoom-event-9938f780ae57273a11606c7ae16dd678@sudbury.ma.us
SEQUENCE:1776687230
DTSTAMP:20260420T121350Z
DTSTART:20100413T233000Z
DURATION:PT120M
SUMMARY:Medical Reserve Corps Executive Committee Meeting: Tuesday\, April 13\, 2010
LOCATION:Department of Public Works Building - Conference Room
URL:https://sudbury.ma.us/mrcec/meeting/medical-reserve-corps-executive-committee-meeting-tuesday-april-13-2010/
DESCRIPTION:For the latest details\, visit:  https://sudbury.ma.us/mrcec/meeting/medical-reserve-corps-executive-committee-meeting-tuesday-april-13-2010/
END:VEVENT
END:VCALENDAR