BEGIN:VCALENDAR
VERSION:2.0
METHOD:PUBLISH
PRODID:-//hacksw/handcal/NONSGML v1.0//EN
BEGIN:VEVENT
TZID:America/New_York
UID:sudbury-zoom-event-784653e417588c1d86b41d072b9dfd77@sudbury.ma.us
SEQUENCE:1776613700
DTSTAMP:20260419T154820Z
DTSTART:20190723T180000Z
DURATION:PT120M
SUMMARY:Microtransit Pilot Launch/Information Session on 7/23/19
LOCATION:Town Hall - Lower Level
URL:https://sudbury.ma.us/pcd/2019/07/22/microtransit-pilot-launch-information-session-on-7-23-19/
DESCRIPTION:For the latest details\, visit:  https://sudbury.ma.us/pcd/2019/07/22/microtransit-pilot-launch-information-session-on-7-23-19/
END:VEVENT
END:VCALENDAR