BEGIN:VCALENDAR
VERSION:2.0
METHOD:PUBLISH
PRODID:-//hacksw/handcal/NONSGML v1.0//EN
BEGIN:VEVENT
TZID:America/New_York
UID:sudbury-zoom-event-669b0abdbac11b062cbe9a1810225c95@sudbury.ma.us
SEQUENCE:1776677665
DTSTAMP:20260420T093425Z
DTSTART:20211021T230000Z
DURATION:PT120M
SUMMARY:2021 Town Forum: MASTER PLAN
LOCATION:Virtual Meeting
URL:https://sudbury.ma.us/pcd/2021/10/21/2021-town-forum-to-be-held-thursday-october-21st/
DESCRIPTION:2021 Town Forum: MASTER PLAN on October 21\, 2021 7:00:00 PM EDT (-04:00)\n\nTo join the 2021 Town Forum: MASTER PLAN virtually\, please click on this link:\nhttps://zoom.us/j/360217080\n\nFor audio only\, call the number below and enter the meeting ID on your telephone keypad.\n\nDial-in number:  978-639-3366 or 470-250-9358\nMeeting ID:  360 217 080\n\nFor the latest details\, visit:  https://sudbury.ma.us/pcd/2021/10/21/2021-town-forum-to-be-held-thursday-october-21st/
END:VEVENT
END:VCALENDAR