BEGIN:VCALENDAR
VERSION:2.0
METHOD:PUBLISH
PRODID:-//hacksw/handcal/NONSGML v1.0//EN
BEGIN:VEVENT
TZID:America/New_York
UID:sudbury-zoom-event-3e50ca86fdcdd0a6aae61164aa80c9db@sudbury.ma.us
SEQUENCE:1776692854
DTSTAMP:20260420T134734Z
DTSTART:20241016T233000Z
DURATION:PT120M
SUMMARY:Planning Board Meeting: Wednesday\, October 16\, 2024
LOCATION:Virtual Meeting
URL:https://sudbury.ma.us/planning/meeting/planning-board-meeting-wednesday-october-16-2024/
DESCRIPTION:Planning Board meeting on October 16\, 2024 7:30:00 PM EDT (-04:00)\n\nTo join the Planning Board meeting virtually\, please click on this link:\nhttps://zoom.us/j/88568656626\n\nFor audio only\, call the number below and enter the meeting ID on your telephone keypad.\n\nDial-in number:  978-639-3366 or 470-250-9358\nMeeting ID:  885 6865 6626\n\nFor the latest details\, visit:  https://sudbury.ma.us/planning/meeting/planning-board-meeting-wednesday-october-16-2024/
END:VEVENT
END:VCALENDAR