BEGIN:VCALENDAR
VERSION:2.0
METHOD:PUBLISH
PRODID:-//hacksw/handcal/NONSGML v1.0//EN
BEGIN:VEVENT
TZID:America/New_York
UID:sudbury-zoom-event-6332bc8bc3b2e4efff0d69474cb67087@sudbury.ma.us
SEQUENCE:1776698432
DTSTAMP:20260420T152032Z
DTSTART:20131115T003000Z
DURATION:PT120M
SUMMARY:Ponds and Waterways Committee Meeting: Thursday\, November 14\, 2013
LOCATION:Flynn Building - Silva Meeting Room (2nd Floor)
URL:https://sudbury.ma.us/pwc/meeting/ponds-and-waterways-committee-meeting-thursday-november-14-2013/
DESCRIPTION:For the latest details\, visit:  https://sudbury.ma.us/pwc/meeting/ponds-and-waterways-committee-meeting-thursday-november-14-2013/
END:VEVENT
END:VCALENDAR