BEGIN:VCALENDAR
VERSION:2.0
METHOD:PUBLISH
PRODID:-//hacksw/handcal/NONSGML v1.0//EN
BEGIN:VEVENT
TZID:America/New_York
UID:sudbury-zoom-event-4f1b86309e34060ad7ac929c9e67e46e@sudbury.ma.us
SEQUENCE:1776703460
DTSTAMP:20260420T164420Z
DTSTART:20160113T003000Z
DURATION:PT90M
SUMMARY:Ponds and Waterways Committee Meeting: Tuesday\, January 12\, 2016
LOCATION:Flynn Building - Thompson Meeting Room (2nd Floor)
URL:https://sudbury.ma.us/pwc/meeting/ponds-and-waterways-committee-meeting-tuesday-january-12-2016/
DESCRIPTION:For the latest details\, visit:  https://sudbury.ma.us/pwc/meeting/ponds-and-waterways-committee-meeting-tuesday-january-12-2016/
END:VEVENT
END:VCALENDAR