BEGIN:VCALENDAR
VERSION:2.0
METHOD:PUBLISH
PRODID:-//hacksw/handcal/NONSGML v1.0//EN
BEGIN:VEVENT
TZID:America/New_York
UID:sudbury-zoom-event-0e2b2dbe55f3e24cb02e54fe2d53635f@sudbury.ma.us
SEQUENCE:1776723316
DTSTAMP:20260420T221516Z
DTSTART:20120619T231500Z
DURATION:PT120M
SUMMARY:Ponds and Waterways Committee Meeting: Tuesday\, June 19\, 2012
LOCATION:Flynn Building - Thompson Meeting Room (2nd Floor)
URL:https://sudbury.ma.us/pwc/meeting/ponds-and-waterways-committee-meeting-tuesday-june-19-2012/
DESCRIPTION:For the latest details\, visit:  https://sudbury.ma.us/pwc/meeting/ponds-and-waterways-committee-meeting-tuesday-june-19-2012/
END:VEVENT
END:VCALENDAR