BEGIN:VCALENDAR
VERSION:2.0
METHOD:PUBLISH
PRODID:-//hacksw/handcal/NONSGML v1.0//EN
BEGIN:VEVENT
TZID:America/New_York
UID:sudbury-zoom-event-c4c09100a54d8a18f86c5c5460afafca@sudbury.ma.us
SEQUENCE:1776794045
DTSTAMP:20260421T175405Z
DTSTART:20120912T233000Z
DURATION:PT120M
SUMMARY:Route 20 Sewer Citizens Advisory Committee Meeting: Wednesday\, September 12\, 2012
LOCATION:Flynn Building - Silva Meeting Room (2nd Floor)
URL:https://sudbury.ma.us/scac/meeting/route-20-sewer-citizens-advisory-committee-meeting-wednesday-september-12-2012/
DESCRIPTION:For the latest details\, visit:  https://sudbury.ma.us/scac/meeting/route-20-sewer-citizens-advisory-committee-meeting-wednesday-september-12-2012/
END:VEVENT
END:VCALENDAR