BEGIN:VCALENDAR
VERSION:2.0
METHOD:PUBLISH
PRODID:-//hacksw/handcal/NONSGML v1.0//EN
BEGIN:VEVENT
TZID:America/New_York
UID:sudbury-zoom-event-c8c25f31a79992eeb55c1430dc002068@sudbury.ma.us
SEQUENCE:1776799635
DTSTAMP:20260421T192715Z
DTSTART:20120516T233000Z
DURATION:PT120M
SUMMARY:Route 20 Sewer Citizens Advisory Committee Meeting: Wednesday\, May 16\, 2012
LOCATION:Department of Public Works Building - Conference Room
URL:https://sudbury.ma.us/scac/meeting/route-20-sewer-citizens-advisory-committee-meeting-wednesday-may-16-2012/
DESCRIPTION:For the latest details\, visit:  https://sudbury.ma.us/scac/meeting/route-20-sewer-citizens-advisory-committee-meeting-wednesday-may-16-2012/
END:VEVENT
END:VCALENDAR