BEGIN:VCALENDAR
VERSION:2.0
METHOD:PUBLISH
PRODID:-//hacksw/handcal/NONSGML v1.0//EN
BEGIN:VEVENT
TZID:America/New_York
UID:sudbury-zoom-event-c380b72f3854e61b1f3e0d05ad367452@sudbury.ma.us
SEQUENCE:1776794044
DTSTAMP:20260421T175404Z
DTSTART:20130214T003000Z
DURATION:PT120M
SUMMARY:Route 20 Sewer Citizens Advisory Committee Meeting: Wednesday\, February 13\, 2013
LOCATION:Department of Public Works Building - Conference Room
URL:https://sudbury.ma.us/scac/meeting/route-20-sewer-citizens-advisory-committee-meeting-wednesday-february-13-2013/
DESCRIPTION:For the latest details\, visit:  https://sudbury.ma.us/scac/meeting/route-20-sewer-citizens-advisory-committee-meeting-wednesday-february-13-2013/
END:VEVENT
END:VCALENDAR