BEGIN:VCALENDAR
VERSION:2.0
METHOD:PUBLISH
PRODID:-//hacksw/handcal/NONSGML v1.0//EN
BEGIN:VEVENT
TZID:America/New_York
UID:sudbury-zoom-event-e55dcd24be9ff5e5dc56ceb4c151d5b4@sudbury.ma.us
SEQUENCE:1776794044
DTSTAMP:20260421T175404Z
DTSTART:20110407T203000Z
DURATION:PT120M
SUMMARY:Route 20 Sewer Citizens Advisory Committee Meeting: Thursday\, April 7\, 2011
LOCATION:Flynn Building - Silva Meeting Room (2nd Floor)
URL:https://sudbury.ma.us/scac/meeting/route-20-sewer-citizens-advisory-committee-meeting-thursday-april-7-2011/
DESCRIPTION:For the latest details\, visit:  https://sudbury.ma.us/scac/meeting/route-20-sewer-citizens-advisory-committee-meeting-thursday-april-7-2011/
END:VEVENT
END:VCALENDAR