BEGIN:VCALENDAR
VERSION:2.0
METHOD:PUBLISH
PRODID:-//hacksw/handcal/NONSGML v1.0//EN
BEGIN:VEVENT
TZID:America/New_York
UID:sudbury-zoom-event-ad33efe398b1beac5a1b06336ae7b3c4@sudbury.ma.us
SEQUENCE:1776794000
DTSTAMP:20260421T175320Z
DTSTART:20130328T180000Z
DURATION:PT120M
SUMMARY:Route 20 Sewer Citizens Advisory Committee Meeting: Thursday\, March 28\, 2013
LOCATION:Wayside Wealth Management - Meeting room
URL:https://sudbury.ma.us/scac/meeting/route-20-sewer-citizens-advisory-committee-meeting-thursday-march-28-2013/
DESCRIPTION:For the latest details\, visit:  https://sudbury.ma.us/scac/meeting/route-20-sewer-citizens-advisory-committee-meeting-thursday-march-28-2013/
END:VEVENT
END:VCALENDAR