BEGIN:VCALENDAR
VERSION:2.0
METHOD:PUBLISH
PRODID:-//hacksw/handcal/NONSGML v1.0//EN
BEGIN:VEVENT
TZID:America/New_York
UID:sudbury-zoom-event-527a4d0f36ccd1b85ae01d5eb985c98c@sudbury.ma.us
SEQUENCE:1776794002
DTSTAMP:20260421T175322Z
DTSTART:20130509T233000Z
DURATION:PT120M
SUMMARY:Route 20 Sewer Citizens Advisory Committee Meeting: Thursday\, May 9\, 2013
LOCATION:Department of Public Works Building - Conference Room
URL:https://sudbury.ma.us/scac/meeting/route-20-sewer-citizens-advisory-committee-meeting-thursday-may-9-2013/
DESCRIPTION:For the latest details\, visit:  https://sudbury.ma.us/scac/meeting/route-20-sewer-citizens-advisory-committee-meeting-thursday-may-9-2013/
END:VEVENT
END:VCALENDAR