BEGIN:VCALENDAR
VERSION:2.0
METHOD:PUBLISH
PRODID:-//hacksw/handcal/NONSGML v1.0//EN
BEGIN:VEVENT
TZID:America/New_York
UID:sudbury-zoom-event-a4f96a3c9ad3fdde7f1fdd27590da525@sudbury.ma.us
SEQUENCE:1776799691
DTSTAMP:20260421T192811Z
DTSTART:20131121T003000Z
DURATION:PT120M
SUMMARY:Route 20 Sewer Citizens Advisory Committee Meeting: Wednesday\, November 20\, 2013
LOCATION:Department of Public Works Building - Conference Room
URL:https://sudbury.ma.us/scac/meeting/route-20-sewer-citizens-advisory-committee-meeting-wednesday-november-20-2013/
DESCRIPTION:For the latest details\, visit:  https://sudbury.ma.us/scac/meeting/route-20-sewer-citizens-advisory-committee-meeting-wednesday-november-20-2013/
END:VEVENT
END:VCALENDAR