BEGIN:VCALENDAR
VERSION:2.0
METHOD:PUBLISH
PRODID:-//hacksw/handcal/NONSGML v1.0//EN
BEGIN:VEVENT
TZID:America/New_York
UID:sudbury-zoom-event-9aa4b0f5ec1ef45622380dcac1501eb0@sudbury.ma.us
SEQUENCE:1776799620
DTSTAMP:20260421T192700Z
DTSTART:20140306T003000Z
DURATION:PT120M
SUMMARY:Route 20 Sewer Citizens Advisory Committee Meeting: Wednesday\, March 5\, 2014
LOCATION:Department of Public Works Building - Conference Room
URL:https://sudbury.ma.us/scac/meeting/route-20-sewer-citizens-advisory-committee-meeting-wednesday-march-5-2014/
DESCRIPTION:For the latest details\, visit:  https://sudbury.ma.us/scac/meeting/route-20-sewer-citizens-advisory-committee-meeting-wednesday-march-5-2014/
END:VEVENT
END:VCALENDAR