BEGIN:VCALENDAR
VERSION:2.0
METHOD:PUBLISH
PRODID:-//hacksw/handcal/NONSGML v1.0//EN
BEGIN:VEVENT
TZID:America/New_York
UID:sudbury-zoom-event-b08234f9829516da67b4ceb5605baa0b@sudbury.ma.us
SEQUENCE:1776799691
DTSTAMP:20260421T192811Z
DTSTART:20111208T003000Z
DURATION:PT120M
SUMMARY:Route 20 Sewer Citizens Advisory Committee Meeting: Wednesday\, December 7\, 2011
LOCATION:Town Hall - Lower Level
URL:https://sudbury.ma.us/scac/meeting/route-20-sewer-citizens-advisory-committee-meeting-wednesday-december-7-2011/
DESCRIPTION:For the latest details\, visit:  https://sudbury.ma.us/scac/meeting/route-20-sewer-citizens-advisory-committee-meeting-wednesday-december-7-2011/
END:VEVENT
END:VCALENDAR