BEGIN:VCALENDAR
VERSION:2.0
METHOD:PUBLISH
PRODID:-//hacksw/handcal/NONSGML v1.0//EN
BEGIN:VEVENT
TZID:America/New_York
UID:sudbury-zoom-event-d4ddcbca02671756691968d01c88c976@sudbury.ma.us
SEQUENCE:1776799691
DTSTAMP:20260421T192811Z
DTSTART:20120613T233000Z
DURATION:PT120M
SUMMARY:Route 20 Sewer Citizens Advisory Committee Meeting: Wednesday\, June 13\, 2012
LOCATION:Department of Public Works Building - Conference Room
URL:https://sudbury.ma.us/scac/meeting/route-20-sewer-citizens-advisory-committee-meeting-wednesday-june-13-2012/
DESCRIPTION:For the latest details\, visit:  https://sudbury.ma.us/scac/meeting/route-20-sewer-citizens-advisory-committee-meeting-wednesday-june-13-2012/
END:VEVENT
END:VCALENDAR