BEGIN:VCALENDAR
VERSION:2.0
METHOD:PUBLISH
PRODID:-//hacksw/handcal/NONSGML v1.0//EN
BEGIN:VEVENT
TZID:America/New_York
UID:sudbury-zoom-event-75d281aa6b0e43509bb8bf8d6e57ca28@sudbury.ma.us
SEQUENCE:1776698350
DTSTAMP:20260420T151910Z
DTSTART:20251020T230000Z
DURATION:PT180M
SUMMARY:Select Board - Handbook Subcommittee Meeting: Monday\, October 20\, 2025
LOCATION:Virtual Meeting
URL:https://sudbury.ma.us/selectboard/meeting/select-board-handbook-subcommittee-meeting-monday-october-20-2025/
DESCRIPTION:Select Board - Handbook Subcommittee meeting on October 20\, 2025 7:00:00 PM EDT (-04:00)\n\nTo join the Select Board - Handbook Subcommittee meeting virtually\, please click on this link:\nhttps://zoom.us/j/83035620119\n\nFor audio only\, call the number below and enter the meeting ID on your telephone keypad.\n\nDial-in number:  978-639-3366 or 470-250-9358\nMeeting ID:  830 3562 0119\n\nFor the latest details\, visit:  https://sudbury.ma.us/selectboard/meeting/select-board-handbook-subcommittee-meeting-monday-october-20-2025/
END:VEVENT
END:VCALENDAR