BEGIN:VCALENDAR
VERSION:2.0
METHOD:PUBLISH
PRODID:-//hacksw/handcal/NONSGML v1.0//EN
BEGIN:VEVENT
TZID:America/New_York
UID:sudbury-zoom-event-5339541e2e03e582f15eadb54b92a80d@sudbury.ma.us
SEQUENCE:1776970147
DTSTAMP:20260423T184907Z
DTSTART:20260428T230000Z
DURATION:PT180M
SUMMARY:Select Board Meeting: Tuesday\, April 28\, 2026
LOCATION:Town Hall - Lower Level
URL:https://sudbury.ma.us/selectboard/meeting/select-board-meeting-tuesday-april-28-2026/
DESCRIPTION:Select Board meeting on April 28\, 2026 7:00:00 PM EDT (-04:00)\n\nOn-site:  Town Hall - Lower Level\, 322 Concord Road\n\nTo join the Select Board meeting virtually\, please click on this link:\nhttps://zoom.us/j/360217080\n\nFor audio only\, call the number below and enter the meeting ID on your telephone keypad.\n\nDial-in number:  978-639-3366 or 470-250-9358\nMeeting ID:  360 217 080\n\nFor the latest details\, visit:  https://sudbury.ma.us/selectboard/meeting/select-board-meeting-tuesday-april-28-2026/
END:VEVENT
END:VCALENDAR