BEGIN:VCALENDAR
VERSION:2.0
METHOD:PUBLISH
PRODID:-//hacksw/handcal/NONSGML v1.0//EN
BEGIN:VEVENT
TZID:America/New_York
UID:sudbury-zoom-event-42a6d7d38ffcab3bd233cced96c8a4ea@sudbury.ma.us
SEQUENCE:1776848736
DTSTAMP:20260422T090536Z
DTSTART:20141119T140000Z
DURATION:PT60M
SUMMARY:Sudbury Board of Selectmen's Office Hours
LOCATION:Fairbank Community Center
URL:https://sudbury.ma.us/selectboard/2014/11/04/sudbury-board-of-selectmens-office-hours-8/
DESCRIPTION:For the latest details\, visit:  https://sudbury.ma.us/selectboard/2014/11/04/sudbury-board-of-selectmens-office-hours-8/
END:VEVENT
END:VCALENDAR