BEGIN:VCALENDAR
VERSION:2.0
METHOD:PUBLISH
PRODID:-//hacksw/handcal/NONSGML v1.0//EN
BEGIN:VEVENT
TZID:America/New_York
UID:sudbury-zoom-event-56b6fe8c84ec6d9e381f1c58ae6b77f2@sudbury.ma.us
SEQUENCE:1776853101
DTSTAMP:20260422T101821Z
DTSTART:20150316T130000Z
DURATION:PT60M
SUMMARY:Sudbury Board of Selectmen's Office Hours
LOCATION:Fairbank Community Center
URL:https://sudbury.ma.us/selectboard/2015/03/06/sudbury-board-of-selectmens-office-hours-10/
DESCRIPTION:For the latest details\, visit:  https://sudbury.ma.us/selectboard/2015/03/06/sudbury-board-of-selectmens-office-hours-10/
END:VEVENT
END:VCALENDAR