BEGIN:VCALENDAR
VERSION:2.0
METHOD:PUBLISH
PRODID:-//hacksw/handcal/NONSGML v1.0//EN
BEGIN:VEVENT
TZID:America/New_York
UID:sudbury-zoom-event-f400038bf2710af3be1b4d18d3aee56c@sudbury.ma.us
SEQUENCE:1776844208
DTSTAMP:20260422T075008Z
DTSTART:20150520T130000Z
DURATION:PT60M
SUMMARY:Sudbury Board of Selectmen's Office Hours
LOCATION:Fairbank Community Center - Senior Center Van Houten Rm. (1958 to 2023)
URL:https://sudbury.ma.us/selectboard/2015/05/11/sudbury-board-of-selectmens-office-hours-11/
DESCRIPTION:For the latest details\, visit:  https://sudbury.ma.us/selectboard/2015/05/11/sudbury-board-of-selectmens-office-hours-11/
END:VEVENT
END:VCALENDAR