BEGIN:VCALENDAR
VERSION:2.0
METHOD:PUBLISH
PRODID:-//hacksw/handcal/NONSGML v1.0//EN
BEGIN:VEVENT
TZID:America/New_York
UID:sudbury-zoom-event-2424aa31c0ef13a9083f714c01cfc319@sudbury.ma.us
SEQUENCE:1776839409
DTSTAMP:20260422T063009Z
DTSTART:20151202T140000Z
DURATION:PT60M
SUMMARY:Board of Selectmen's Office Hours: December 2\, 2015
LOCATION:Flynn Building - Thompson Meeting Room (2nd Floor)
URL:https://sudbury.ma.us/selectboard/2015/11/30/sudbury-board-of-selectmens-office-hours-14/
DESCRIPTION:For the latest details\, visit:  https://sudbury.ma.us/selectboard/2015/11/30/sudbury-board-of-selectmens-office-hours-14/
END:VEVENT
END:VCALENDAR