BEGIN:VCALENDAR
VERSION:2.0
METHOD:PUBLISH
PRODID:-//hacksw/handcal/NONSGML v1.0//EN
BEGIN:VEVENT
TZID:America/New_York
UID:sudbury-zoom-event-167dcf6b479f05079de6ca7a057a440b@sudbury.ma.us
SEQUENCE:1776831013
DTSTAMP:20260422T041013Z
DTSTART:20160714T230000Z
DURATION:PT60M
SUMMARY:Board of Selectmen's Office Hours: July 14\, 2016
LOCATION:Flynn Building - Silva Meeting Room (2nd Floor)
URL:https://sudbury.ma.us/selectboard/2016/07/14/board-of-selectmens-office-hours-july-14-2016/
DESCRIPTION:For the latest details\, visit:  https://sudbury.ma.us/selectboard/2016/07/14/board-of-selectmens-office-hours-july-14-2016/
END:VEVENT
END:VCALENDAR