BEGIN:VCALENDAR
VERSION:2.0
METHOD:PUBLISH
PRODID:-//hacksw/handcal/NONSGML v1.0//EN
BEGIN:VEVENT
TZID:America/New_York
UID:sudbury-zoom-event-2008fc0855869d5b5ea88e024765bdf7@sudbury.ma.us
SEQUENCE:1776831052
DTSTAMP:20260422T041052Z
DTSTART:20160927T130000Z
DURATION:PT60M
SUMMARY:Board of Selectmen's Office Hours: September 27\, 2016
LOCATION:Flynn Building - Silva Meeting Room (2nd Floor)
URL:https://sudbury.ma.us/selectboard/2016/09/26/board-of-selectmens-office-hours-september-27-2016/
DESCRIPTION:For the latest details\, visit:  https://sudbury.ma.us/selectboard/2016/09/26/board-of-selectmens-office-hours-september-27-2016/
END:VEVENT
END:VCALENDAR