BEGIN:VCALENDAR
VERSION:2.0
METHOD:PUBLISH
PRODID:-//hacksw/handcal/NONSGML v1.0//EN
BEGIN:VEVENT
TZID:America/New_York
UID:sudbury-zoom-event-e974de0199dcc57c1613280fa9d7d4ad@sudbury.ma.us
SEQUENCE:1776831013
DTSTAMP:20260422T041013Z
DTSTART:20161027T233000Z
DURATION:PT60M
SUMMARY:Board of Selectmen's Office Hours: October 27\, 2016
LOCATION:Goodnow Library - Community Room
URL:https://sudbury.ma.us/selectboard/2016/10/27/board-of-selectmens-office-hours-october-27-2016/
DESCRIPTION:For the latest details\, visit:  https://sudbury.ma.us/selectboard/2016/10/27/board-of-selectmens-office-hours-october-27-2016/
END:VEVENT
END:VCALENDAR