BEGIN:VCALENDAR
VERSION:2.0
METHOD:PUBLISH
PRODID:-//hacksw/handcal/NONSGML v1.0//EN
BEGIN:VEVENT
TZID:America/New_York
UID:sudbury-zoom-event-fde525c6cc476d4e61ea2295c2f34e1a@sudbury.ma.us
SEQUENCE:1776826200
DTSTAMP:20260422T025000Z
DTSTART:20161115T140000Z
DURATION:PT60M
SUMMARY:Board of Selectmen's Office Hours: December 14\, 2016
LOCATION:Fairbank Community Center - Senior Center Van Houten Rm. (1958 to 2023)
URL:https://sudbury.ma.us/selectboard/2016/12/13/board-of-selectmens-office-hours-december-14-2016/
DESCRIPTION:For the latest details\, visit:  https://sudbury.ma.us/selectboard/2016/12/13/board-of-selectmens-office-hours-december-14-2016/
END:VEVENT
END:VCALENDAR