BEGIN:VCALENDAR
VERSION:2.0
METHOD:PUBLISH
PRODID:-//hacksw/handcal/NONSGML v1.0//EN
BEGIN:VEVENT
TZID:America/New_York
UID:sudbury-zoom-event-9e2347bdc972877d71ac814b0b35ab34@sudbury.ma.us
SEQUENCE:1776826360
DTSTAMP:20260422T025240Z
DTSTART:20170124T140000Z
DURATION:PT60M
SUMMARY:Board of Selectmen's Office Hours: January 24\, 2017
LOCATION:Flynn Building - Thompson Meeting Room (2nd Floor)
URL:https://sudbury.ma.us/selectboard/2016/12/19/board-of-selectmens-office-hours-january-24-2017/
DESCRIPTION:For the latest details\, visit:  https://sudbury.ma.us/selectboard/2016/12/19/board-of-selectmens-office-hours-january-24-2017/
END:VEVENT
END:VCALENDAR