BEGIN:VCALENDAR
VERSION:2.0
METHOD:PUBLISH
PRODID:-//hacksw/handcal/NONSGML v1.0//EN
BEGIN:VEVENT
TZID:America/New_York
UID:sudbury-zoom-event-8d86a8a4e71ff99101877a7d25068426@sudbury.ma.us
SEQUENCE:1776825749
DTSTAMP:20260422T024229Z
DTSTART:20170121T150000Z
DURATION:PT150M
SUMMARY:Town Forum Scheduled for Saturday\, January 21\, 2017
LOCATION:Town Hall - Lower Level
URL:https://sudbury.ma.us/selectboard/2017/01/20/town-forum-2017/
DESCRIPTION:For the latest details\, visit:  https://sudbury.ma.us/selectboard/2017/01/20/town-forum-2017/
END:VEVENT
END:VCALENDAR