BEGIN:VCALENDAR
VERSION:2.0
METHOD:PUBLISH
PRODID:-//hacksw/handcal/NONSGML v1.0//EN
BEGIN:VEVENT
TZID:America/New_York
UID:sudbury-zoom-event-57c6ec09d5ea2a10383d61504afcd017@sudbury.ma.us
SEQUENCE:1776816077
DTSTAMP:20260422T000117Z
DTSTART:20170718T190000Z
DURATION:PT60M
SUMMARY:Board of Selectmen's Office Hours: July 18\, 2017
LOCATION:Fairbank Community Center - Senior Center Pines Rm. (1958 to 2023)
URL:https://sudbury.ma.us/selectboard/2017/07/17/board-of-selectmens-office-hours-july-18-2017/
DESCRIPTION:For the latest details\, visit:  https://sudbury.ma.us/selectboard/2017/07/17/board-of-selectmens-office-hours-july-18-2017/
END:VEVENT
END:VCALENDAR