BEGIN:VCALENDAR
VERSION:2.0
METHOD:PUBLISH
PRODID:-//hacksw/handcal/NONSGML v1.0//EN
BEGIN:VEVENT
TZID:America/New_York
UID:sudbury-zoom-event-d48a638d46379ec0af5de0897bb0fec2@sudbury.ma.us
SEQUENCE:1776816076
DTSTAMP:20260422T000116Z
DTSTART:20170824T130000Z
DURATION:PT60M
SUMMARY:Board of Selectmen's Office Hours: August 24\, 2017
LOCATION:Flynn Building - Silva Meeting Room (2nd Floor)
URL:https://sudbury.ma.us/selectboard/2017/08/23/board-of-selectmens-office-hours-august-24-2017/
DESCRIPTION:For the latest details\, visit:  https://sudbury.ma.us/selectboard/2017/08/23/board-of-selectmens-office-hours-august-24-2017/
END:VEVENT
END:VCALENDAR