BEGIN:VCALENDAR
VERSION:2.0
METHOD:PUBLISH
PRODID:-//hacksw/handcal/NONSGML v1.0//EN
BEGIN:VEVENT
TZID:America/New_York
UID:sudbury-zoom-event-19c19bbf6e22ef8bc82eecaf4a6f8832@sudbury.ma.us
SEQUENCE:1776797419
DTSTAMP:20260421T185019Z
DTSTART:20180207T000000Z
DURATION:PT180M
SUMMARY:Board of Selectmen Meeting: Tuesday\, February 6\, 2018
LOCATION:Town Hall - Lower Level
URL:https://sudbury.ma.us/selectboard/meeting/board-of-selectmen-meeting-tuesday-february-6-2018/
DESCRIPTION:For the latest details\, visit:  https://sudbury.ma.us/selectboard/meeting/board-of-selectmen-meeting-tuesday-february-6-2018/
END:VEVENT
END:VCALENDAR