BEGIN:VCALENDAR
VERSION:2.0
METHOD:PUBLISH
PRODID:-//hacksw/handcal/NONSGML v1.0//EN
BEGIN:VEVENT
TZID:America/New_York
UID:sudbury-zoom-event-9a5a2b42afca76b9e05337478ba4c9d0@sudbury.ma.us
SEQUENCE:1776797328
DTSTAMP:20260421T184848Z
DTSTART:20180320T223000Z
DURATION:PT210M
SUMMARY:Board of Selectmen Meeting: Tuesday\, March 20\, 2018
LOCATION:Town Hall - Lower Level
URL:https://sudbury.ma.us/selectboard/meeting/board-of-selectmen-meeting-tuesday-march-20-2018/
DESCRIPTION:For the latest details\, visit:  https://sudbury.ma.us/selectboard/meeting/board-of-selectmen-meeting-tuesday-march-20-2018/
END:VEVENT
END:VCALENDAR